BEGIN:VCALENDAR
VERSION:2.0
PRODID:-//Fireside Chat - ECPv6.15.20//NONSGML v1.0//EN
CALSCALE:GREGORIAN
METHOD:PUBLISH
X-WR-CALNAME:Fireside Chat
X-ORIGINAL-URL:https://firesidechat.ca
X-WR-CALDESC:Events for Fireside Chat
REFRESH-INTERVAL;VALUE=DURATION:PT1H
X-Robots-Tag:noindex
X-PUBLISHED-TTL:PT1H
BEGIN:VTIMEZONE
TZID:America/Edmonton
BEGIN:DAYLIGHT
TZOFFSETFROM:-0700
TZOFFSETTO:-0600
TZNAME:MDT
DTSTART:20230312T090000
END:DAYLIGHT
BEGIN:STANDARD
TZOFFSETFROM:-0600
TZOFFSETTO:-0700
TZNAME:MST
DTSTART:20231105T080000
END:STANDARD
BEGIN:DAYLIGHT
TZOFFSETFROM:-0700
TZOFFSETTO:-0600
TZNAME:MDT
DTSTART:20240310T090000
END:DAYLIGHT
BEGIN:STANDARD
TZOFFSETFROM:-0600
TZOFFSETTO:-0700
TZNAME:MST
DTSTART:20241103T080000
END:STANDARD
BEGIN:DAYLIGHT
TZOFFSETFROM:-0700
TZOFFSETTO:-0600
TZNAME:MDT
DTSTART:20250309T090000
END:DAYLIGHT
BEGIN:STANDARD
TZOFFSETFROM:-0600
TZOFFSETTO:-0700
TZNAME:MST
DTSTART:20251102T080000
END:STANDARD
END:VTIMEZONE
BEGIN:VEVENT
DTSTART;TZID=America/Edmonton:20240628T170000
DTEND;TZID=America/Edmonton:20240628T210000
DTSTAMP:20260425T041812
CREATED:20241007T014704Z
LAST-MODIFIED:20241007T014704Z
UID:11246-1719594000-1719608400@firesidechat.ca
SUMMARY:2024 Live Draft Show
DESCRIPTION:We’re once again partnering with our friends at Bow River Brewing taproom (#110 5769 4 St SE) to present our first ever live show! During the 2024 NHL Entry Draft we’ll be recording live in the taproom as we cover everything Calgary Flames related. There will be an open mic so you can jump in with Dan and Matt to give your thoughts on the happenings around the Flames in real time! Any trades\, picks\, or other happenings will be open for you to comment on with us.\n\n \n\nBow River Brewing has an excellent selection of both alcoholic and non-alcoholic beers and drinks (they’ll have beer specials all night) – and their food is can’t miss (our team loves their pizzas). Stop by after work and watch the draft with other Flames fans.\n\n \n\nAs of now\, the Calgary Flames hold the #9 and #28 picks in the first round\, so we’ll have coverage going on for the entire first round. If you can’t make it to the brewery\, we’ll have the edited version of the show on the regular feed later in the weekend.\n\n \n“Drink beer instead of water”\n\nMayor Jyoti Gondek
URL:https://firesidechat.ca/event/2024-draft-show
LOCATION:Bow River Brewing Taproom\, #110 5769 4 St SE\, Calgary\, Alberta\, T2H 1K8\, Canada
CATEGORIES:Live Show
END:VEVENT
END:VCALENDAR